BEGIN:VCALENDAR
VERSION:2.0
PRODID:-//Scarlet Hub - ECPv6.11.1//NONSGML v1.0//EN
CALSCALE:GREGORIAN
METHOD:PUBLISH
X-WR-CALNAME:Scarlet Hub
X-ORIGINAL-URL:https://scarlethub.rutgers.edu
X-WR-CALDESC:Events for Scarlet Hub
REFRESH-INTERVAL;VALUE=DURATION:PT1H
X-Robots-Tag:noindex
X-PUBLISHED-TTL:PT1H
BEGIN:VTIMEZONE
TZID:America/New_York
BEGIN:DAYLIGHT
TZOFFSETFROM:-0500
TZOFFSETTO:-0400
TZNAME:EDT
DTSTART:20250309T070000
END:DAYLIGHT
BEGIN:STANDARD
TZOFFSETFROM:-0400
TZOFFSETTO:-0500
TZNAME:EST
DTSTART:20251102T060000
END:STANDARD
BEGIN:DAYLIGHT
TZOFFSETFROM:-0500
TZOFFSETTO:-0400
TZNAME:EDT
DTSTART:20260308T070000
END:DAYLIGHT
BEGIN:STANDARD
TZOFFSETFROM:-0400
TZOFFSETTO:-0500
TZNAME:EST
DTSTART:20261101T060000
END:STANDARD
END:VTIMEZONE
BEGIN:VEVENT
DTSTART;VALUE=DATE:20250507
DTEND;VALUE=DATE:20250508
DTSTAMP:20260423T202020
CREATED:20250108T161339Z
LAST-MODIFIED:20250303T193152Z
UID:11599-1746576000-1746662399@scarlethub.rutgers.edu
SUMMARY:Last Day To Fully Withdraw From the University - Spring 2025
DESCRIPTION:May 7 is the last day to to fully withdraw from the university for the Spring 2025 semester.
URL:https://scarlethub.rutgers.edu/important-date/last-day-to-withdraw-from-spring-2025-classes-with-a-grade-of-w/
END:VEVENT
BEGIN:VEVENT
DTSTART;VALUE=DATE:20250508
DTEND;VALUE=DATE:20250509
DTSTAMP:20260423T202020
CREATED:20250123T203845Z
LAST-MODIFIED:20250123T203845Z
UID:11674-1746662400-1746748799@scarlethub.rutgers.edu
SUMMARY:Spring 2025 Exams Begin
DESCRIPTION:Spring 2025 exams begin on May 8.
URL:https://scarlethub.rutgers.edu/important-date/spring-2025-exams-begin-3/
END:VEVENT
BEGIN:VEVENT
DTSTART;TZID=America/New_York:20250514T000000
DTEND;TZID=America/New_York:20250514T235900
DTSTAMP:20260423T202020
CREATED:20250116T203144Z
LAST-MODIFIED:20250123T161820Z
UID:11631-1747180800-1747267140@scarlethub.rutgers.edu
SUMMARY:Spring 2025 Exams End
DESCRIPTION:
URL:https://scarlethub.rutgers.edu/important-date/spring-2025-exams-end/
END:VEVENT
BEGIN:VEVENT
DTSTART;VALUE=DATE:20250801
DTEND;VALUE=DATE:20250802
DTSTAMP:20260423T202020
CREATED:20250729T203023Z
LAST-MODIFIED:20250729T203123Z
UID:12336-1754006400-1754092799@scarlethub.rutgers.edu
SUMMARY:The 2026 Rutgers University Application is live
DESCRIPTION:The 2026 Rutgers University Application is live starting August 1\, 2025. For more information on how to apply\, click here! \n 
URL:https://scarlethub.rutgers.edu/important-date/the-2026-rutgers-university-application-is-live/
END:VEVENT
BEGIN:VEVENT
DTSTART;VALUE=DATE:20250902
DTEND;VALUE=DATE:20250903
DTSTAMP:20260423T202020
CREATED:20250708T184553Z
LAST-MODIFIED:20250708T184553Z
UID:12283-1756771200-1756857599@scarlethub.rutgers.edu
SUMMARY:Fall 2025 Semester Begins
DESCRIPTION:The Fall 2025 Semester begins on Tuesday\, September 2.
URL:https://scarlethub.rutgers.edu/important-date/fall-2025-semester-begins/
END:VEVENT
BEGIN:VEVENT
DTSTART;VALUE=DATE:20250917
DTEND;VALUE=DATE:20250918
DTSTAMP:20260423T202020
CREATED:20250729T200142Z
LAST-MODIFIED:20250729T200334Z
UID:12334-1758067200-1758153599@scarlethub.rutgers.edu
SUMMARY:RUHere Confirmation Deadline - Fall 2025
DESCRIPTION:The last day for RUHere Confirmation for Fall 2025 is Wednesday\, September 17.
URL:https://scarlethub.rutgers.edu/important-date/ruhere-confirmation-deadline-fall-2025/
END:VEVENT
BEGIN:VEVENT
DTSTART;VALUE=DATE:20251210
DTEND;VALUE=DATE:20251211
DTSTAMP:20260423T202020
CREATED:20250708T184742Z
LAST-MODIFIED:20250708T184918Z
UID:12285-1765324800-1765411199@scarlethub.rutgers.edu
SUMMARY:Fall 2025 Semester Ends
DESCRIPTION:The Regular Classes for the Fall 2025 Semester end on Wednesday\, December 10.
URL:https://scarlethub.rutgers.edu/important-date/fall-2025-semester-ends/
END:VEVENT
BEGIN:VEVENT
DTSTART;VALUE=DATE:20260115
DTEND;VALUE=DATE:20260116
DTSTAMP:20260423T202020
CREATED:20260108T160833Z
LAST-MODIFIED:20260108T160833Z
UID:12918-1768435200-1768521599@scarlethub.rutgers.edu
SUMMARY:Rutgers University – FAFSA Priority Filing Deadline
DESCRIPTION:The Rutgers priority filing deadline for the Free Application for Federal Student Aid (FAFSA) is January 15! You must complete the FAFSA for maximum financial aid consideration. Rutgers’ Federal School Code: 002629
URL:https://scarlethub.rutgers.edu/important-date/rutgers-university-fafsa-priority-filing-deadline-2/
END:VEVENT
BEGIN:VEVENT
DTSTART;VALUE=DATE:20260120
DTEND;VALUE=DATE:20260121
DTSTAMP:20260423T202020
CREATED:20260108T161227Z
LAST-MODIFIED:20260108T161227Z
UID:12924-1768867200-1768953599@scarlethub.rutgers.edu
SUMMARY:Spring 2026 Semester Begins
DESCRIPTION:The spring 2026 Semester begins on January 20.
URL:https://scarlethub.rutgers.edu/important-date/spring-2026-semester-begins/
END:VEVENT
BEGIN:VEVENT
DTSTART;VALUE=DATE:20260129
DTEND;VALUE=DATE:20260130
DTSTAMP:20260423T202020
CREATED:20260108T161035Z
LAST-MODIFIED:20260130T195037Z
UID:12922-1769644800-1769731199@scarlethub.rutgers.edu
SUMMARY:Undergraduate spring 2026 Add/Drop Period Ends
DESCRIPTION:The Undergraduate Add/Drop period for the spring 2026 semester ended on January 29\, 2026. This was the last day students could drop a course without receiving a “W” on their record. Students who want to withdraw from all of their courses must follow the official withdrawal process.
URL:https://scarlethub.rutgers.edu/important-date/undergraduate-spring-2026-add-drop-period-ends/
END:VEVENT
BEGIN:VEVENT
DTSTART;VALUE=DATE:20260314
DTEND;VALUE=DATE:20260315
DTSTAMP:20260423T202020
CREATED:20260108T161443Z
LAST-MODIFIED:20260108T161443Z
UID:12928-1773446400-1773532799@scarlethub.rutgers.edu
SUMMARY:Spring 2026 Recess Begins
DESCRIPTION:Spring Recess begins on March 14 and will last until March 22. Enjoy your break!
URL:https://scarlethub.rutgers.edu/important-date/spring-2026-recess-begins/
END:VEVENT
BEGIN:VEVENT
DTSTART;VALUE=DATE:20260505
DTEND;VALUE=DATE:20260507
DTSTAMP:20260423T202020
CREATED:20260108T163610Z
LAST-MODIFIED:20260108T163610Z
UID:12939-1777939200-1778111999@scarlethub.rutgers.edu
SUMMARY:Spring 2026 Semester – Reading Days
DESCRIPTION:Reading Days for the spring 2026 semester will be held from May 5 to May 6.
URL:https://scarlethub.rutgers.edu/important-date/spring-2026-semester-reading-days/
END:VEVENT
BEGIN:VEVENT
DTSTART;VALUE=DATE:20260507
DTEND;VALUE=DATE:20260508
DTSTAMP:20260423T202020
CREATED:20260108T161612Z
LAST-MODIFIED:20260108T161612Z
UID:12930-1778112000-1778198399@scarlethub.rutgers.edu
SUMMARY:Spring 2026 Exams Begin
DESCRIPTION:Spring 2026 exams begin on May 7.
URL:https://scarlethub.rutgers.edu/important-date/spring-2026-exams-begin/
END:VEVENT
BEGIN:VEVENT
DTSTART;VALUE=DATE:20260513
DTEND;VALUE=DATE:20260514
DTSTAMP:20260423T202020
CREATED:20260108T161810Z
LAST-MODIFIED:20260108T161810Z
UID:12932-1778630400-1778716799@scarlethub.rutgers.edu
SUMMARY:Spring 2026 Exams End
DESCRIPTION:Spring 2026 exams end on May 13.
URL:https://scarlethub.rutgers.edu/important-date/spring-2026-exams-end/
END:VEVENT
END:VCALENDAR